BEGIN:VCALENDAR
VERSION:2.0
PRODID:icalendar-ruby
CALSCALE:GREGORIAN
BEGIN:VEVENT
DTSTAMP:20260425T144458Z
UID:049d9b27-48ac-489e-b6cb-a958da040151
DTSTART;TZID=Pacific/Auckland:20260427T130000
DTEND;TZID=Pacific/Auckland:20260427T133000
DESCRIPTION:Property ID# 606897
SUMMARY:Openhome for 55 Elizabeth Avenue
END:VEVENT
END:VCALENDAR
