BEGIN:VCALENDAR
VERSION:2.0
PRODID:icalendar-ruby
CALSCALE:GREGORIAN
BEGIN:VEVENT
DTSTAMP:20260421T082001Z
UID:bbff3089-8d66-4ad4-ab83-7e612c015b44
DTSTART;VALUE=DATE:20211110
DESCRIPTION:Property ID# 519614\, Locatoin:  Lodge Auction Rooms\, 935 Vict
 oria Street\, Hamilton (unless sold prior)\, Time: 12:00PM
SUMMARY:Auction for 
END:VEVENT
END:VCALENDAR
