BEGIN:VCALENDAR
VERSION:2.0
PRODID:icalendar-ruby
CALSCALE:GREGORIAN
BEGIN:VEVENT
DTSTAMP:20260422T162136Z
UID:23b6bdba-0ba2-4d67-81f0-d5f25708bbda
DTSTART;VALUE=DATE:20210917
DESCRIPTION:Property ID# 516923\, Time: 4:30PM
SUMMARY:Auction for 
END:VEVENT
END:VCALENDAR
